BEGIN:VCALENDAR
VERSION:2.0
PRODID:-//Sta Coach Tours - ECPv6.15.17//NONSGML v1.0//EN
CALSCALE:GREGORIAN
METHOD:PUBLISH
X-ORIGINAL-URL:https://stacoachtours.com
X-WR-CALDESC:Events for Sta Coach Tours
REFRESH-INTERVAL;VALUE=DURATION:PT1H
X-Robots-Tag:noindex
X-PUBLISHED-TTL:PT1H
BEGIN:VTIMEZONE
TZID:UTC
BEGIN:STANDARD
TZOFFSETFROM:+0000
TZOFFSETTO:+0000
TZNAME:UTC
DTSTART:20240101T000000
END:STANDARD
END:VTIMEZONE
BEGIN:VEVENT
DTSTART;TZID=UTC:20251129T080000
DTEND;TZID=UTC:20251129T173000
DTSTAMP:20260422T105834
CREATED:20251103T211655Z
LAST-MODIFIED:20251103T220213Z
UID:1274-1764403200-1764437400@stacoachtours.com
SUMMARY:York Christmas Market
DESCRIPTION:Day Trip – Saturday 29th NOVEMBER 2025\nEnjoy a memorable break to York Christmas Markets \n\nYork is a very special place at any time of year\, but between November and\nDecember\, the York Christmas Market brings festive cheer to the medieval\ncity. Why not join us on a festive coach trip to a memorable visit to York\nChristmas Market? York is magically transformed into something that’ll be\nsure to get you in the Christmas spirit \nWhat’s on at York Christmas Market?\nParliament Street and St. Sampson’s Square are lined with 75 alpine chalets\,\noffering an array of world-class Christmas goods\, food\, and drink. Local crafts – unique and\ncharming items\, from independent makers and creators. Artisan products – special items for a\nspecial purchase. Seasonal treats – a delicious selection of festive food\, drink\, and sweets too\,\nnot forgetting all that mulled wine and those mince Pies\, the vintage carousel\, Plus much more! \nDeparture points:\n08.00am The Coach way – Milton Keynes\n08.30am Bedford -Train Station\n09.00am Wellingborough – coach lay-by on Castle Way\n09.30am Northampton – Coach lay-by on Victoria Street \nOnly £29pp \nTravel by Luxury Coach to York to soak up the lights\, taste the mulled\nwine\, be wowed at all the stalls and gifts\, \nNot included: \n\nPersonal expenditure\, gratuities\, any admission charges\nTravel insurance\n\nBooking & Enquiries \n 01908 473 166 \n 01234 237 577
URL:https://stacoachtours.com/event/york-christmas-market/
LOCATION:Milton Keynes Coachway\, Coachway Road\, Milton Keynes\, MK16 0AA
CATEGORIES:Day Trips
END:VEVENT
END:VCALENDAR