BEGIN:VCALENDAR
VERSION:2.0
PRODID:-//Sta Coach Tours - ECPv6.15.17//NONSGML v1.0//EN
CALSCALE:GREGORIAN
METHOD:PUBLISH
X-WR-CALNAME:Sta Coach Tours
X-ORIGINAL-URL:https://stacoachtours.com
X-WR-CALDESC:Events for Sta Coach Tours
REFRESH-INTERVAL;VALUE=DURATION:PT1H
X-Robots-Tag:noindex
X-PUBLISHED-TTL:PT1H
BEGIN:VTIMEZONE
TZID:UTC
BEGIN:STANDARD
TZOFFSETFROM:+0000
TZOFFSETTO:+0000
TZNAME:UTC
DTSTART:20230101T000000
END:STANDARD
END:VTIMEZONE
BEGIN:VEVENT
DTSTART;VALUE=DATE:20250401
DTEND;VALUE=DATE:20250405
DTSTAMP:20260423T210959
CREATED:20250131T124702Z
LAST-MODIFIED:20250131T125228Z
UID:945-1743465600-1743811199@stacoachtours.com
SUMMARY:Euro Disney & Paris - April 2025
DESCRIPTION:This is a great short break to experience Disneyland Paris and get a taste of the sights and attractions of one of the world’s greatest cities. You can spend your full day at Disneyland Paris exploring Disneyland Park\, Walt Disney Studios Park\, and Disney Village as you please. So whether you are looking to enjoy fun for all the family\, parades and attractions for the little ones or adrenaline-fuelled rides to keep you buzzing all day long\, the day is sure to be a blast! \n​ \nDay-By-Day: \nDay 1: Paris. Settle on-board your Executive Class coach as you journey through England to Dover for a Ferry / Euro Tunnel to Calais and on to your hotel in the Greater Paris area. \n​ \nDay 2: Disneyland Paris. Transfer Included full-day visit to Disneyland Paris. (Tickets not included) \n​ \nDay 3: Paris. Included coach transfer into the centre of Paris. Experience the breathtaking sights and sounds of the romantic city of Paris. Visit some of the most famous landmarks such as the Arc de Triomphe\, The Louvre\, Notre Dame and the Eiffel Tower. \n​ \nDay 4: Paris The journey home with an en-route stop for shopping\, time permitting. \n​ \nWhat’s included:           \n\n\nFull day visit to Disneyland Paris on day 2 including transfers \n\n\nTransfer into Paris on the morning of day 3 \n\n\n3 nights’ accommodation with continental breakfast hotel in the Greater Paris \n\n\nReturn coach travel \n\n\nFree local pick-up points
URL:https://stacoachtours.com/event/euro-disney-paris/
CATEGORIES:UK & EU Holidays
ATTACH;FMTTYPE=image/jpeg:https://stacoachtours.com/wp-content/uploads/2025/01/hf4h4o3g2c0.jpg
END:VEVENT
BEGIN:VEVENT
DTSTART;TZID=UTC:20250301T080000
DTEND;TZID=UTC:20250301T170000
DTSTAMP:20260423T210959
CREATED:20250131T114227Z
LAST-MODIFIED:20250205T141709Z
UID:919-1740816000-1740848400@stacoachtours.com
SUMMARY:London Designer Outlet
DESCRIPTION:Situated next to the world-famous Wembley Stadium and in the heart of London’s most exciting new district. London Designer outlet shops offer year-round savings at discounted prices – on brands such as Tommy Hilfiger\, Calvin Klein\, Nike\, Adidas\, Sketchers\, Guess\, PUMA\, Clarks\, GAP and Superdry. \nContact UsPlease enable JavaScript in your browser to complete this form.Please enable JavaScript in your browser to complete this form.Name *FirstLastEmail *Comment or MessageSubmit  \n 
URL:https://stacoachtours.com/event/london-designer-outlet/
LOCATION:London Designer Outlet
CATEGORIES:Day Trips
ATTACH;FMTTYPE=image/jpeg:https://stacoachtours.com/wp-content/uploads/2025/01/London-Outlet.jpg
END:VEVENT
BEGIN:VEVENT
DTSTART;TZID=UTC:20240325T090000
DTEND;TZID=UTC:20240325T230000
DTSTAMP:20260423T210959
CREATED:20240321T130119Z
LAST-MODIFIED:20240321T130450Z
UID:82-1711357200-1711407600@stacoachtours.com
SUMMARY:Pilates
DESCRIPTION:Pilates class for beginners.
URL:https://stacoachtours.com/event/pilates/
CATEGORIES:Training
END:VEVENT
END:VCALENDAR