BEGIN:VCALENDAR
VERSION:2.0
PRODID:-//Sta Coach Tours - ECPv6.15.17//NONSGML v1.0//EN
CALSCALE:GREGORIAN
METHOD:PUBLISH
X-WR-CALNAME:Sta Coach Tours
X-ORIGINAL-URL:https://stacoachtours.com
X-WR-CALDESC:Events for Sta Coach Tours
REFRESH-INTERVAL;VALUE=DURATION:PT1H
X-Robots-Tag:noindex
X-PUBLISHED-TTL:PT1H
BEGIN:VTIMEZONE
TZID:UTC
BEGIN:STANDARD
TZOFFSETFROM:+0000
TZOFFSETTO:+0000
TZNAME:UTC
DTSTART:20240101T000000
END:STANDARD
END:VTIMEZONE
BEGIN:VEVENT
DTSTART;TZID=UTC:20251227T090000
DTEND;TZID=UTC:20251227T180000
DTSTAMP:20260423T121808
CREATED:20251215T215043Z
LAST-MODIFIED:20251219T114005Z
UID:1302-1766826000-1766858400@stacoachtours.com
SUMMARY:London at Leisure
DESCRIPTION:London at Leisure\n\n  \nSpend the day doing as you please in our Capital City. You will be dropped off at Hyde Park\, which is perfect for exploring the\, Oxford Street\, Covent Garden\, The Strand and much more. \nKey Information\n\n\n\nDuration\n1 day\nPrice from\n£18.00 Per Person\n\nCategory\nDay Trips\nTime\n09.00am\n\n\n\nPrice Includes:\n\n\nReturn coach travel\n\nNot included: \n\nPersonal expenditure\, gratuities\, any admission charges\nTravel insurance\n\nReturn time : 18.00 hrs
URL:https://stacoachtours.com/event/london-at-leisure/
LOCATION:Milton Keynes Coachway\, Coachway Road\, Milton Keynes\, MK16 0AA
CATEGORIES:Day Trips
ATTACH;FMTTYPE=image/webp:https://stacoachtours.com/wp-content/uploads/2025/12/Hyde-Park-Winter-Wonderland.webp
END:VEVENT
END:VCALENDAR