BEGIN:VCALENDAR
VERSION:2.0
PRODID:-//Sta Coach Tours - ECPv6.15.17//NONSGML v1.0//EN
CALSCALE:GREGORIAN
METHOD:PUBLISH
X-ORIGINAL-URL:https://stacoachtours.com
X-WR-CALDESC:Events for Sta Coach Tours
REFRESH-INTERVAL;VALUE=DURATION:PT1H
X-Robots-Tag:noindex
X-PUBLISHED-TTL:PT1H
BEGIN:VTIMEZONE
TZID:UTC
BEGIN:STANDARD
TZOFFSETFROM:+0000
TZOFFSETTO:+0000
TZNAME:UTC
DTSTART:20240101T000000
END:STANDARD
END:VTIMEZONE
BEGIN:VEVENT
DTSTART;TZID=UTC:20251220T103000
DTEND;TZID=UTC:20251220T190000
DTSTAMP:20260423T122045
CREATED:20251002T083455Z
LAST-MODIFIED:20251215T220000Z
UID:1244-1766226600-1766257200@stacoachtours.com
SUMMARY:Blackpool Illumination Day Excursion
DESCRIPTION:Blackpool is buzzing – Britain’s family holiday capital is bursting with thrills\, excitement and entertainment. There is super shopping and over 7 miles of beaches so there is plenty to do and see with its famous Tower and the Pleasure Beach. \nKey Information\n\n\n\nDuration\n1 day\nPrice from\n£25.00 Per Adult\n£20.00 Per Child\nCategory\nDay Trips\nTime\n10.30am\n\n\n\n\n\nPrice Includes: \n\nReturn coach travel\n\nNot included: \n\nPersonal expenditure\, gratuities\, any admission charges\nTravel insurance\n\nReturn time : 19.00 hrs \n \n\nContact UsPlease enable JavaScript in your browser to complete this form.Please enable JavaScript in your browser to complete this form.Name *FirstLastEmail *Comment or MessageSubmit
URL:https://stacoachtours.com/event/blackpool-day-trip/
LOCATION:Milton Keynes Coachway\, Coachway Road\, Milton Keynes\, MK16 0AA
CATEGORIES:Day Trips
ATTACH;FMTTYPE=image/jpeg:https://stacoachtours.com/wp-content/uploads/2025/09/IMG-20250926-WA0000.jpg
END:VEVENT
END:VCALENDAR